BEGIN:VCALENDAR
VERSION:2.0
PRODID:-//EGM - ECPv6.15.15//NONSGML v1.0//EN
CALSCALE:GREGORIAN
METHOD:PUBLISH
X-WR-CALNAME:EGM
X-ORIGINAL-URL:https://encounteringgod.org
X-WR-CALDESC:Veranstaltungen für EGM
REFRESH-INTERVAL;VALUE=DURATION:PT1H
X-Robots-Tag:noindex
X-PUBLISHED-TTL:PT1H
BEGIN:VTIMEZONE
TZID:Europe/Berlin
BEGIN:DAYLIGHT
TZOFFSETFROM:+0100
TZOFFSETTO:+0200
TZNAME:CEST
DTSTART:20230326T010000
END:DAYLIGHT
BEGIN:STANDARD
TZOFFSETFROM:+0200
TZOFFSETTO:+0100
TZNAME:CET
DTSTART:20231029T010000
END:STANDARD
BEGIN:DAYLIGHT
TZOFFSETFROM:+0100
TZOFFSETTO:+0200
TZNAME:CEST
DTSTART:20240331T010000
END:DAYLIGHT
BEGIN:STANDARD
TZOFFSETFROM:+0200
TZOFFSETTO:+0100
TZNAME:CET
DTSTART:20241027T010000
END:STANDARD
BEGIN:DAYLIGHT
TZOFFSETFROM:+0100
TZOFFSETTO:+0200
TZNAME:CEST
DTSTART:20250330T010000
END:DAYLIGHT
BEGIN:STANDARD
TZOFFSETFROM:+0200
TZOFFSETTO:+0100
TZNAME:CET
DTSTART:20251026T010000
END:STANDARD
END:VTIMEZONE
BEGIN:VEVENT
DTSTART;TZID=Europe/Berlin:20240524T193000
DTEND;TZID=Europe/Berlin:20240525T220000
DTSTAMP:20260422T064402
CREATED:20240214T125651Z
LAST-MODIFIED:20240522T133219Z
UID:3116-1716579000-1716674400@encounteringgod.org
SUMMARY:FREEDOM! Konferenz 24.+25. Mai
DESCRIPTION:Konferenz für Befreiung\n24. + 25. Mai 2024\nHannover\nJesus macht frei! \nWie wir von dämonischen Bindungen befreit werden können \nDämonische Bindungen sind heute genauso real wie zur Zeit Jesu. Auch die Not nach Befreiung ist heute mindestens ebenso dringend und aktuell wie damals. Jesus sprach davon\, dass ein Kennzeichen der Gläubigen der Dienst der Befreiung von Dämonen sein wird (Mk 16\, 17). Das ist die biblische Normalität für uns heute: \n„Wenn der Sohn euch frei macht\, dann seid ihr wirklich frei!“ (Joh 8\, 36) \nIn dieser Konferenz wollen wir uns intensiv mit diesem Thema auseinandersetzen und Gott an uns wirken lassen.  \nInhalte u.a.: \n– Wie häufig sind Bindungen? \n– Können Christen Dämonen haben? \n– Erkennungszeichen von dämonischer Gebundenheit \n– Ursachen von dämonischer Gebundenheit \n– Praxis: Wie wir frei werden — wie wir frei bleiben \nHinweis: Es steht ein Gebetsteam vor Ort für die Praxiszeit bereit. Bitte habt Verständnis\, dass dabei aufgrund der Anzahl der Teilnehmer eine Einzelseelsorge nicht möglich sein wird. \n\nSprecher: Christoph und Sabine Bosch\nChristoph und Sabine Bosch dienen u.a. seit über 15 Jahren Menschen in Befreiung und geben seitdem regelmäßig zusammen mit ihrem Team Seminare zu diesem Thema. Ein entspannter\, angstfreier\, Jesus-zentrierter (anstatt Dämonen-fokussierter) Umgang mit diesem Thema ist ihnen dabei wichtig. Auch wenn man sich mit Dämonen und ihren Aktivitäten ein Stück beschäftigen muss\, werden diese nicht in den Mittelpunkt gestellt. Vielmehr wollen sie anhand des biblischen Vorbildes Menschen zur Freiheit für die Nachfolge Jesu verhelfen.\nChristoph und Sabine gründeten 2013 den Dienst Encountering God Ministries. Ihr Herz schlägt dafür\, Menschen zu trainieren und Gläubige und Ungläubige durch eine Begegnung mit dem lebendigen Gott verändert zu sehen. \nDa es viele verschiedene „Stile“ und Arten gibt\, wie Befreiungsdienst gelebt wird\, geben wir hier eine kurze Einordnung von Christoph und Sabine: \nUnser Verständnis des Befreiungsdienstes ist\, diesen Dienst möglichst einfach und biblisch zu halten. D.h. wir haben keine „Sonderwege“ oder ungewohnte Methoden außerhalb der biblischen Vorbilder. Auch ist das Ziel nicht Lautstärke und Dramatik\, sondern Menschen durch die gottgegebene Autorität in Freiheit zu führen. Auch wenn es mal lauter und dramatischer werden kann\, ist es nicht das\, was wir suchen oder bewusst fördern. Im Laufe der Zeit haben wir selbst viele verschiedene Befreiungsdienste kennengelernt und auch davon gelernt. Am meisten geprägt hat uns aber der Dienst von Derek Prince\, der viele Jahre in einem starken\, weltweiten Befreiungsdienst diente. \n\nOrganisatorische Daten: \nBeginn: Freitag\, 24. Mai\, 19.30 Uhr \nEnde: Samstag\, 25. Mai\, ca. 22.30 Uhr\nStartzeiten: Am Samstag: 10.00 / 14.30 / 19.30 Uhr \nVeranstaltungsort: Großer Gottesdienstraum der ICHTHYS – Freie Jesus-Gemeinde e.V.\, Ikarusallee 1A\, 30179 Hannover \nKonferenzgebühr:\nAnmeldung und Geldeingang bis 03.05.2024: 30 EUR/Person – ermäßigt: 20 EUR\nAnmeldung und Geldeingang ab 04.05.2024: 40 EUR/Person – ermäßigt: 30 EUR\nEine Ermäßigung gilt für Schüler\, Studenten Rentner und Arbeitslose \nWir halten die Anmeldegebühr bewusst niedrig\, um die Teilnahme für alle zu ermöglichen. Um alle Kosten zu decken\, werden wir einmalig ein freiwilliges Opfer einsammeln – bitte plant das ein! Danke. \nEine Anmeldung ist Online erforderlich über: \n\n\n\nAb 21.5. Nachmittags ist die Anmeldung nur noch über cvents möglich:\nFREEDOM! Konferenz Hannover 24.05.2024 | cvents\n\n\n\n\nFür die Unterbringung und Verpflegung ist jeder selbst verantwortlich. Eine ausführliche Liste von Hotels und Restaurants ist hier zu finden: https://t1p.de/Ichthys-Hotels-Restaurants  (in der Liste links unten auf die Tabs „Restaurant“ oder „Hotel“ klicken um die jeweilige Liste zu sehen!)\n\nBei Fragen: konferenz@ichthys-hannover.de\nWir versenden eine Anmeldebestätigung mit weiteren Details. \nEine Kinderbetreuuung ist nicht vorhanden. \n\nVeranstalter: Das ist eine gemeinsame Veranstaltung von: \n  \nIchthys – Freie Jesus Gemeinde Hannover\nwww.ichthyshannover.com \n \n  \n  \n  \n  \nund \nEncountering God Ministries\nwww.encounteringgod.org \n \n  \n  \n  \n  \n  \n  \n  \n  \nmit Unterstützung des\nGebetshaus Hannover: www.gebetshaushannover.de \n \n  \n  \n  \n  \n  \n  \n  \n\n 
URL:https://encounteringgod.org/event/freedom-konferenz/
LOCATION:ICHTHYS Freie Jesus-Gemeinde e.V. Hannover – großer Gottesdienstraum\, Ikarusallee 1A\, Hannover\, Niedersachsen\, 30179\, Deutschland
CATEGORIES:Konferenz
ATTACH;FMTTYPE=image/jpeg:https://encounteringgod.org/wordpress/wp-content/uploads/2024/02/Fyler-Vorderseite-WEB-kurz.jpg
END:VEVENT
END:VCALENDAR