BEGIN:VCALENDAR
VERSION:2.0
PRODID:-//EGM - ECPv6.15.15//NONSGML v1.0//EN
CALSCALE:GREGORIAN
METHOD:PUBLISH
X-ORIGINAL-URL:https://encounteringgod.org
X-WR-CALDESC:Veranstaltungen für EGM
REFRESH-INTERVAL;VALUE=DURATION:PT1H
X-Robots-Tag:noindex
X-PUBLISHED-TTL:PT1H
BEGIN:VTIMEZONE
TZID:Europe/Berlin
BEGIN:DAYLIGHT
TZOFFSETFROM:+0100
TZOFFSETTO:+0200
TZNAME:CEST
DTSTART:20220327T010000
END:DAYLIGHT
BEGIN:STANDARD
TZOFFSETFROM:+0200
TZOFFSETTO:+0100
TZNAME:CET
DTSTART:20221030T010000
END:STANDARD
BEGIN:DAYLIGHT
TZOFFSETFROM:+0100
TZOFFSETTO:+0200
TZNAME:CEST
DTSTART:20230326T010000
END:DAYLIGHT
BEGIN:STANDARD
TZOFFSETFROM:+0200
TZOFFSETTO:+0100
TZNAME:CET
DTSTART:20231029T010000
END:STANDARD
BEGIN:DAYLIGHT
TZOFFSETFROM:+0100
TZOFFSETTO:+0200
TZNAME:CEST
DTSTART:20240331T010000
END:DAYLIGHT
BEGIN:STANDARD
TZOFFSETFROM:+0200
TZOFFSETTO:+0100
TZNAME:CET
DTSTART:20241027T010000
END:STANDARD
END:VTIMEZONE
BEGIN:VEVENT
DTSTART;TZID=Europe/Berlin:20230821T190000
DTEND;TZID=Europe/Berlin:20230821T220000
DTSTAMP:20260420T202326
CREATED:20230622T085808Z
LAST-MODIFIED:20230810T103731Z
UID:2954-1692644400-1692655200@encounteringgod.org
SUMMARY:Ein prophetischer Abend mit Adam F. Thompson
DESCRIPTION:Achtung: Wir starten schon um 19.00 Uhr! \nWir freuen uns\, dass wir Adam F. Thompson für einen Abend hier in Hannover haben können. Wir veranstalten diesen Abend zusammen mit der Ichthys Hannover im großen Gottesdienstsaal der Ichthys Hannover. \nAdam F. Thompson ist ein prophetischer Mann aus Australien. Seine besondere Begabung liegt darin\, durch die Auslegung von Träumen Menschen prophetisch zu dienen. Er dient in Worten der Erkenntnissen und er liebt und erlebt das Übernatürliche Gottes\, z.B. auch durch Heilungen. \nEr hat mehrere Bücher geschrieben\, wie z.B. „Der himmlische Mensch“ oder „Göttliche Schlüssel zur Deutung von Träumen und Visionen“ \nWir freuen uns auf diesen Abend mit euch! \nEs gibt keine Anmeldung oder Gebühr. \nWir werden für die Kosten des Abends und das Honorar des Sprechers ein Opfer einsammeln. Bitte plant das ein! Danke.
URL:https://encounteringgod.org/event/ein-prophetischer-abend-mit-adam-f-thompson/
LOCATION:ICHTHYS Freie Jesus-Gemeinde e.V. Hannover – großer Gottesdienstraum\, Ikarusallee 1A\, Hannover\, Niedersachsen\, 30179\, Deutschland
CATEGORIES:Gottesdienst
ATTACH;FMTTYPE=image/jpeg:https://encounteringgod.org/wordpress/wp-content/uploads/2023/08/Einladung-21.-August-23-Adam-Thompson.jpg
ORGANIZER;CN="Encountering God Ministries e.V.":MAILTO:office@encounteringgod.org
END:VEVENT
END:VCALENDAR