BEGIN:VCALENDAR
VERSION:2.0
PRODID:-//EGM - ECPv6.15.15//NONSGML v1.0//EN
CALSCALE:GREGORIAN
METHOD:PUBLISH
X-ORIGINAL-URL:https://encounteringgod.org
X-WR-CALDESC:Veranstaltungen für EGM
REFRESH-INTERVAL;VALUE=DURATION:PT1H
X-Robots-Tag:noindex
X-PUBLISHED-TTL:PT1H
BEGIN:VTIMEZONE
TZID:Europe/Berlin
BEGIN:DAYLIGHT
TZOFFSETFROM:+0100
TZOFFSETTO:+0200
TZNAME:CEST
DTSTART:20220327T010000
END:DAYLIGHT
BEGIN:STANDARD
TZOFFSETFROM:+0200
TZOFFSETTO:+0100
TZNAME:CET
DTSTART:20221030T010000
END:STANDARD
BEGIN:DAYLIGHT
TZOFFSETFROM:+0100
TZOFFSETTO:+0200
TZNAME:CEST
DTSTART:20230326T010000
END:DAYLIGHT
BEGIN:STANDARD
TZOFFSETFROM:+0200
TZOFFSETTO:+0100
TZNAME:CET
DTSTART:20231029T010000
END:STANDARD
BEGIN:DAYLIGHT
TZOFFSETFROM:+0100
TZOFFSETTO:+0200
TZNAME:CEST
DTSTART:20240331T010000
END:DAYLIGHT
BEGIN:STANDARD
TZOFFSETFROM:+0200
TZOFFSETTO:+0100
TZNAME:CET
DTSTART:20241027T010000
END:STANDARD
END:VTIMEZONE
BEGIN:VEVENT
DTSTART;TZID=Europe/Berlin:20230629T193000
DTEND;TZID=Europe/Berlin:20230629T220000
DTSTAMP:20260420T234157
CREATED:20230420T114420Z
LAST-MODIFIED:20230622T205330Z
UID:2921-1688067000-1688076000@encounteringgod.org
SUMMARY:Offener Lehrabend: 29.6.23 (Donnerstag) "Beherrschst du deine Umstände?"
DESCRIPTION:  \nIch habe euch\, ihr jungen Männer\, geschrieben\, weil ihr stark seid und das Wort Gottes in euch bleibt und ihr den Bösen überwunden habt. (1. Joh 2\,14b) \n  \nLiebe Freunde\, \nWir laden euch herzlich zu unserem nächsten \noffenen Lehrabend  am 29. Juni 2023 (Donnerstag) um 19.30 Uhr zum Thema\n\n„Beherrschst du deine Umstände?“\nein! \nWorum geht es? \nAn den Lehrabenden schauen wir uns Themen an\, von denen wir empfinden\, dass sie aktuell\, wichtig und auf dem Herzen Gottes für uns sind. \nWir alle benötigen die Wahrheit aus dem Wort Gottes um einen klaren Kopf und ein klares Herz zu haben! \nWie der Bibelvers ganz oben aus 1. Joh 2\,14 beschreibt\, bewirkt die Wahrheit aus dem Wort Gottes in uns Stärke und hilft uns ein siegreiches Leben als Christ zu führen\, um unsere Umwelt zu beeinflussen und nicht umgekehrt. \nVeranstaltungsort: Das Bistro der Ichthys Freie Jesus-Gemeinde e.V.\, Ikarusallee 1A\, 30179 Hannover (http://www.hannover-ichthys.de/anfahrt); \nWegbeschreibung ins Bistro: Durch den Haupteingang der Ichthys-Gemeinde gehen\, dann links durch die Glastür. Das Bistro liegt ebenerdig und ist auch gut für Menschen im Rollstuhl zu erreichen; die Nutzung eines Behinderten-WCs muss leider vorab abgesprochen werden. \nDer Abend ist wie immer offen für alle und kostenlos. \nWir freuen uns auf euch! \n  \nChristoph und Sabine Bosch \nund das Encountering God Ministries Team
URL:https://encounteringgod.org/event/offener-lehrabend-29-6-23-donnerstag/
LOCATION:Ichthys Freie Jesus Gemeinde e.V. – Bistro\, Ikarusallee 1A\, Hannover-Vahrenheide\, Niedersachsen\, 30179\, Deutschland
CATEGORIES:Lehrabend
ATTACH;FMTTYPE=image/jpeg:https://encounteringgod.org/wordpress/wp-content/uploads/2014/02/DSC3620-3.jpg
ORGANIZER;CN="Encountering God Ministries e.V.":MAILTO:office@encounteringgod.org
END:VEVENT
END:VCALENDAR