BEGIN:VCALENDAR
VERSION:2.0
PRODID:-//EGM - ECPv6.15.15//NONSGML v1.0//EN
CALSCALE:GREGORIAN
METHOD:PUBLISH
X-WR-CALNAME:EGM
X-ORIGINAL-URL:https://encounteringgod.org
X-WR-CALDESC:Veranstaltungen für EGM
REFRESH-INTERVAL;VALUE=DURATION:PT1H
X-Robots-Tag:noindex
X-PUBLISHED-TTL:PT1H
BEGIN:VTIMEZONE
TZID:Europe/Berlin
BEGIN:DAYLIGHT
TZOFFSETFROM:+0100
TZOFFSETTO:+0200
TZNAME:CEST
DTSTART:20220327T010000
END:DAYLIGHT
BEGIN:STANDARD
TZOFFSETFROM:+0200
TZOFFSETTO:+0100
TZNAME:CET
DTSTART:20221030T010000
END:STANDARD
BEGIN:DAYLIGHT
TZOFFSETFROM:+0100
TZOFFSETTO:+0200
TZNAME:CEST
DTSTART:20230326T010000
END:DAYLIGHT
BEGIN:STANDARD
TZOFFSETFROM:+0200
TZOFFSETTO:+0100
TZNAME:CET
DTSTART:20231029T010000
END:STANDARD
BEGIN:DAYLIGHT
TZOFFSETFROM:+0100
TZOFFSETTO:+0200
TZNAME:CEST
DTSTART:20240331T010000
END:DAYLIGHT
BEGIN:STANDARD
TZOFFSETFROM:+0200
TZOFFSETTO:+0100
TZNAME:CET
DTSTART:20241027T010000
END:STANDARD
END:VTIMEZONE
BEGIN:VEVENT
DTSTART;TZID=Europe/Berlin:20230409T100000
DTEND;TZID=Europe/Berlin:20230409T123000
DTSTAMP:20260421T025226
CREATED:20230315T160333Z
LAST-MODIFIED:20230315T160333Z
UID:2901-1681034400-1681043400@encounteringgod.org
SUMMARY:Gottesdienst in der Schalom Gemeinde in Peine
DESCRIPTION:Ihr Lieben\, \nwir sind eingeladen\, am Ostersonntag\, den 9.4.23\, in der Schalom Gemeinde in Peine zu predigen. Dazu seid ihr herzlich eingeladen!
URL:https://encounteringgod.org/event/gottesdienst-in-der-schalom-gemeinde-in-peine/
LOCATION:Christengemeinde Schalom e.V.\, Hans-Gallinis-Str. 2\,\, Peine\, Niedersachsen\, 31224\, Deutschland
CATEGORIES:Gottesdienst
ATTACH;FMTTYPE=image/jpeg:https://encounteringgod.org/wordpress/wp-content/uploads/2014/07/shutterstock_80613892fWeb-e1460203937343.jpg
ORGANIZER;CN="Christengemeinde Schalom e.V.":MAILTO:info@cgs-peine.de
END:VEVENT
END:VCALENDAR