BEGIN:VCALENDAR
VERSION:2.0
PRODID:-//EGM - ECPv6.15.15//NONSGML v1.0//EN
CALSCALE:GREGORIAN
METHOD:PUBLISH
X-WR-CALNAME:EGM
X-ORIGINAL-URL:https://encounteringgod.org
X-WR-CALDESC:Veranstaltungen für EGM
REFRESH-INTERVAL;VALUE=DURATION:PT1H
X-Robots-Tag:noindex
X-PUBLISHED-TTL:PT1H
BEGIN:VTIMEZONE
TZID:Europe/Berlin
BEGIN:DAYLIGHT
TZOFFSETFROM:+0100
TZOFFSETTO:+0200
TZNAME:CEST
DTSTART:20210328T010000
END:DAYLIGHT
BEGIN:STANDARD
TZOFFSETFROM:+0200
TZOFFSETTO:+0100
TZNAME:CET
DTSTART:20211031T010000
END:STANDARD
BEGIN:DAYLIGHT
TZOFFSETFROM:+0100
TZOFFSETTO:+0200
TZNAME:CEST
DTSTART:20220327T010000
END:DAYLIGHT
BEGIN:STANDARD
TZOFFSETFROM:+0200
TZOFFSETTO:+0100
TZNAME:CET
DTSTART:20221030T010000
END:STANDARD
BEGIN:DAYLIGHT
TZOFFSETFROM:+0100
TZOFFSETTO:+0200
TZNAME:CEST
DTSTART:20230326T010000
END:DAYLIGHT
BEGIN:STANDARD
TZOFFSETFROM:+0200
TZOFFSETTO:+0100
TZNAME:CET
DTSTART:20231029T010000
END:STANDARD
END:VTIMEZONE
BEGIN:VEVENT
DTSTART;TZID=Europe/Berlin:20221008T120000
DTEND;TZID=Europe/Berlin:20221009T180000
DTSTAMP:20260421T123022
CREATED:20220823T080206Z
LAST-MODIFIED:20220909T094530Z
UID:2700-1665230400-1665338400@encounteringgod.org
SUMMARY:Evangelistischer Stand auf der Esoterikmesse
DESCRIPTION:Das ist kein Seminar oder eine öffentliche Veranstaltung in einer Gemeinde! Wir sind Teil eine Messe\, für die man Eintritt zahlen muss:\nWie viele von euch wissen\, führen wir diesen evangelistischen Einsatz auf der Esoterikmesse in Hannover seit vielen Jahren mit großer Freude und spürbaren Segen durch. Es ist nunmehr das 11. Jahr (leider mit zwei Jahren Coronapause)\, dass wir dort mit einem gebuchten Stand Gebet für Heilung\, Reden Gottes empfangen\, usw. suchenden Menschen anbieten. Viele Menschen wurden seither durch Gott berührt\, einige davon dramatisch und lebensverändernd. Einige haben ihr Leben Jesus anvertraut und folgen nun Jesus nach. Es sind wieder zwei Vorträge von uns vorgesehen. Das ganze ist eine „Gemeinschaftsproduktion“\, d.h. die Mitarbeiter und Beter für diesen Stand kommen aus verschiedenen Gemeinden und Gemeinschaften aus der Region und von weiter her nur dafür zusammen. Gerne dürft ihr für viel und bleibende Frucht beten!\n\n\n\n\n\n\nHIER findet ihr vergangene Erfahrungen und Higlights des letzten Einsatzes von 2019 (runterscrollen bis UNTER die Erfahrungen der Heilungskonferenz 2019).
URL:https://encounteringgod.org/event/evangelistischer-stand-auf-der-esoterikmesse/
LOCATION:Glashalle Hannover Congress Centrum (HCC)\, Theodor-Heuss-Platz 1-3\, Hannover\, Niedersachsen\, 30175\, Deutschland
CATEGORIES:Evangelistische Veranstaltung
ATTACH;FMTTYPE=image/jpeg:https://encounteringgod.org/wordpress/wp-content/uploads/2014/07/Jesus-Encounter-Plakat-klein-e1476353311942.jpg
END:VEVENT
BEGIN:VEVENT
DTSTART;TZID=Europe/Berlin:20221015T100000
DTEND;TZID=Europe/Berlin:20221015T170000
DTSTAMP:20260421T123022
CREATED:20220810T123139Z
LAST-MODIFIED:20221024T111815Z
UID:2683-1665828000-1665853200@encounteringgod.org
SUMMARY:Heilungsseminar 15. Okt 2022
DESCRIPTION:Die Aufnahmen sind kostenlos HIER verfügbar.\n\nWir laden dich herzlich zu unserem Heilungsseminar im Gebetshaus Hannover ein!\nDas Gebetshaus Hannover veranstaltet ein Heilungsseminar\, zu dem sie unsere Freunde von den Heilungsräumen Hannover und uns baten\, dort zu dienen. Du bist herzlich eingeladen\, hier dabei zu sein! \nInhalt: \n„ Jesus Christus ist derselbe gestern und heute und in alle Ewigkeit!“ (Hebr 13.8) \nJesus hat sich nicht verändert! Er ist der Heiler und derjenige\, der Menschen Hilfe und Erlösung bringt. So wie er damals Kranke heilte\, heilt er auch heute noch. \nDie Heilungsräume Hannover und wir selbst sind schon sehr lange mit diesem Thema unterwegs und durften im Laufe der Jahre viel Erleben und viele Erfahrungen sammeln. An diesem Tag werden wir das Thema „Heilung“ aus biblischer Sicht betrachten. Dabei werden wir eine gute Mischung aus Lehrteilen\, ermutigenden Erfahrungsberichten und Praxisteilen haben. \nZum Ende werden wir einen längeren Praxisteil haben\, in dem wir in Teams für Kranke beten und Gottes Heilungskraft erleben dürfen. \nEs sind alle eingeladen\, die das Thema „Heilung“ interessiert und/oder die Heilung für sich suchen. \n  \nBeginn: 15. Oktober (Samstag) 10.00 Uhr \nEnde: ca. 17.00 Uhr. \nDazwischen kleinere Pausen und eine Mittagspause \nKosten: \nWir erheben keine Anmeldegebühr. Wir werden einmal ein freiwilliges Opfer einsammeln. \nAnmeldung: \nAufgrund des begrenzten Raumes im Gebetshaus ist nur eine begrenzte Teilnehmerzahl möglich. Eure Anmeldung erleichtert die Planung – deshalb: \nBitte meldet euch mit Namen und Anzahl der Personen unter der Email des Gebetshauses an: \n \n  \n  \nVerpflegung: \nSelbstverpflegung: Es gibt in innerhalb von 500-700 m diverse Möglichkeiten: \nRichtung und an der Hildesheimer Straße: Restaurants\, Cafes\, Imbiss\, McDonalds\, usw. \nRichtung Süden: Pennymarkt\, Bäckerei \n  \nWegebeschreibung: \nFür die Wegbeschreibung zum Gebetshaus Hannover (Landwehrstraße 41a\, 30519 Hannover) gehe auf die Webseite des Gebetshauses ( Gebetshaus Hannover ) und scrolle nach unten bis zur Überschrift „WEGBESCHREIBUNG“. \nParkmöglichkeiten: Im Hof des Gebetshauses gibt es keine Parkmöglichkeiten. Bitte parkt in den Straßen in der Nähe. \nOder nimm diese Beschreibung: \nDu musst bei der Hausnr. 41 der Landwehrstraße in Hannover durch eine Hauseinfahrt UNTEN durch\, halte dich an das Pusteblumen-Logo des Gebetshauses! \nZugang zum Gebäude des Gebetshauses: \n \n  \nEingangstür des Gebetshauses:
URL:https://encounteringgod.org/event/heilungsseminar-15-10/
LOCATION:Gebetshaus Hannover\, Landwehrstraße 41a\, Hannover\, 30519\, Deutschland
CATEGORIES:Seminar
ATTACH;FMTTYPE=image/png:https://encounteringgod.org/wordpress/wp-content/uploads/2022/08/Heilungsseminar-1.png
ORGANIZER;CN="Gebetshaus Hannover":MAILTO:info@gebetshaushannover.de
END:VEVENT
END:VCALENDAR