BEGIN:VCALENDAR
VERSION:2.0
PRODID:-//EGM - ECPv6.15.15//NONSGML v1.0//EN
CALSCALE:GREGORIAN
METHOD:PUBLISH
X-WR-CALNAME:EGM
X-ORIGINAL-URL:https://encounteringgod.org
X-WR-CALDESC:Veranstaltungen für EGM
REFRESH-INTERVAL;VALUE=DURATION:PT1H
X-Robots-Tag:noindex
X-PUBLISHED-TTL:PT1H
BEGIN:VTIMEZONE
TZID:Europe/Berlin
BEGIN:DAYLIGHT
TZOFFSETFROM:+0100
TZOFFSETTO:+0200
TZNAME:CEST
DTSTART:20210328T010000
END:DAYLIGHT
BEGIN:STANDARD
TZOFFSETFROM:+0200
TZOFFSETTO:+0100
TZNAME:CET
DTSTART:20211031T010000
END:STANDARD
BEGIN:DAYLIGHT
TZOFFSETFROM:+0100
TZOFFSETTO:+0200
TZNAME:CEST
DTSTART:20220327T010000
END:DAYLIGHT
BEGIN:STANDARD
TZOFFSETFROM:+0200
TZOFFSETTO:+0100
TZNAME:CET
DTSTART:20221030T010000
END:STANDARD
BEGIN:DAYLIGHT
TZOFFSETFROM:+0100
TZOFFSETTO:+0200
TZNAME:CEST
DTSTART:20230326T010000
END:DAYLIGHT
BEGIN:STANDARD
TZOFFSETFROM:+0200
TZOFFSETTO:+0100
TZNAME:CET
DTSTART:20231029T010000
END:STANDARD
END:VTIMEZONE
BEGIN:VEVENT
DTSTART;TZID=Europe/Berlin:20220630T193000
DTEND;TZID=Europe/Berlin:20220630T220000
DTSTAMP:20260421T185312
CREATED:20220614T065955Z
LAST-MODIFIED:20220909T094613Z
UID:2645-1656617400-1656626400@encounteringgod.org
SUMMARY:Offener Lehrabend am 30.6. (Donnerstag): "Chancen in der Krise!"
DESCRIPTION:  \nIch habe euch\, ihr jungen Männer\, geschrieben\, weil ihr stark seid und das Wort Gottes in euch bleibt und ihr den Bösen überwunden habt. (1. Joh 2\,14b) \n  \nLiebe Freunde\, \nWir laden euch herzlich zu unserem nächsten \n  \noffenen Lehrabend  „Chance in der Krise!“  am 30. Juni (Donnerstag)\num 19.30 Uhr\nein! \nWie wir schon geschrieben haben\, fangen wir in 2022 an\, abwechselnd einmal einen Heilungsabend und dann wieder einen Lehrabend anzubieten usw.. Der nächste Abend wird also ein Lehrabend sein. \nWorum geht es? \nAn den Lehrabenden schauen wir uns Themen an\, von denen wir empfinden\, dass sie aktuell\, wichtig und auf dem Herzen Gottes für uns sind. \nWir alle benötigen die Wahrheit aus dem Wort Gottes um einen klaren Kopf und ein klares Herz zu haben! \nWie der Bibelvers ganz oben aus 1. Joh 2\,14 beschreibt\, bewirkt die Wahrheit aus dem Wort Gottes in uns Stärke und hilft uns ein siegreiches Leben als Christ zu führen\, um unsere Umwelt zu beeinflussen und nicht umgekehrt. \nDas Thema des Abends wird sein: „Chancen in der Krise!“.\n  \nVeranstaltungsort: Das Bistro der Ichthys Freie Jesus-Gemeinde e.V.\, Ikarusallee 1A\, 30179 Hannover (http://www.hannover-ichthys.de/anfahrt); \n  \nWegbeschreibung ins Bistro: Durch den Haupteingang der Ichthys-Gemeinde gehen\, dann links durch die Glastür. Das Bistro liegt ebenerdig und ist auch gut für Menschen im Rollstuhl zu erreichen; die Nutzung eines Behinderten-WCs muss leider vorab abgesprochen werden. \nDer Abend ist wie immer offen für alle und kostenlos. \nWir freuen uns auf euch! \n  \nChristoph und Sabine Bosch \nund das Encountering God Ministries Team \n  \n 
URL:https://encounteringgod.org/event/offener-lehrabend-am-30-6-donnerstag/
LOCATION:Ichthys Freie Jesus Gemeinde e.V. – Bistro\, Ikarusallee 1A\, Hannover-Vahrenheide\, Niedersachsen\, 30179\, Deutschland
CATEGORIES:Lehrabend
ATTACH;FMTTYPE=image/jpeg:https://encounteringgod.org/wordpress/wp-content/uploads/2014/02/DSC3620-3.jpg
ORGANIZER;CN="Encountering God Ministries e.V.":MAILTO:office@encounteringgod.org
END:VEVENT
END:VCALENDAR