BEGIN:VCALENDAR
VERSION:2.0
PRODID:-//EGM - ECPv6.15.15//NONSGML v1.0//EN
CALSCALE:GREGORIAN
METHOD:PUBLISH
X-ORIGINAL-URL:https://encounteringgod.org
X-WR-CALDESC:Veranstaltungen für EGM
REFRESH-INTERVAL;VALUE=DURATION:PT1H
X-Robots-Tag:noindex
X-PUBLISHED-TTL:PT1H
BEGIN:VTIMEZONE
TZID:Europe/Berlin
BEGIN:DAYLIGHT
TZOFFSETFROM:+0100
TZOFFSETTO:+0200
TZNAME:CEST
DTSTART:20210328T010000
END:DAYLIGHT
BEGIN:STANDARD
TZOFFSETFROM:+0200
TZOFFSETTO:+0100
TZNAME:CET
DTSTART:20211031T010000
END:STANDARD
BEGIN:DAYLIGHT
TZOFFSETFROM:+0100
TZOFFSETTO:+0200
TZNAME:CEST
DTSTART:20220327T010000
END:DAYLIGHT
BEGIN:STANDARD
TZOFFSETFROM:+0200
TZOFFSETTO:+0100
TZNAME:CET
DTSTART:20221030T010000
END:STANDARD
BEGIN:DAYLIGHT
TZOFFSETFROM:+0100
TZOFFSETTO:+0200
TZNAME:CEST
DTSTART:20230326T010000
END:DAYLIGHT
BEGIN:STANDARD
TZOFFSETFROM:+0200
TZOFFSETTO:+0100
TZNAME:CET
DTSTART:20231029T010000
END:STANDARD
END:VTIMEZONE
BEGIN:VEVENT
DTSTART;TZID=Europe/Berlin:20220227T100000
DTEND;TZID=Europe/Berlin:20220227T123000
DTSTAMP:20260422T010126
CREATED:20220217T111141Z
LAST-MODIFIED:20220909T094717Z
UID:2581-1645956000-1645965000@encounteringgod.org
SUMMARY:27.2.: Gottesdienst in der Christengemeinde Schalom in Peine
DESCRIPTION:Liebe Freunde\, \nwir wurden eingeladen\, im Sonntagsgottesdienst der Schalom Gemeinde in Peine zu dienen. Dazu seid ihr herzlich eingeladen: \n27.2.2022\, 10.00 Uhr\nChristengemeinde Schalom e.V.\nHans-Gallinis-Str.2\n31224 Peine\nTel: 0152 / 57571008 \n 
URL:https://encounteringgod.org/event/gottesdienst-in-der-christengemeinde-schalom-in-peine/
LOCATION:Christengemeinde Schalom e.V.\, Hans-Gallinis-Str. 2\,\, Peine\, Niedersachsen\, 31224\, Deutschland
CATEGORIES:Gottesdienst
ATTACH;FMTTYPE=image/jpeg:https://encounteringgod.org/wordpress/wp-content/uploads/2014/02/DSC3620-3.jpg
ORGANIZER;CN="Christengemeinde Schalom e.V.":MAILTO:info@cgs-peine.de
END:VEVENT
END:VCALENDAR